View In:
ArcGIS JavaScript
ArcGIS Online Map Viewer
ArcGIS Earth
Service Description: 1-meter Lidar Digital Terrain Model (Bare Earth), captured in 2018. License: https://open.canada.ca/en/open-government-licence-canada
Name: Imagery_Public/2018_DTM_Lidar_1m
Description: 1-meter Lidar Digital Terrain Model (Bare Earth), captured in 2018. License: https://open.canada.ca/en/open-government-licence-canada
Single Fused Map Cache: false
Extent:
XMin: 310000.0
YMin: 5900000.0
XMax: 360000.0
YMax: 5960000.0
Spatial Reference: 2152
(2956)
LatestVCSWkid(0)
Initial Extent:
XMin: 310000.0
YMin: 5900000.0
XMax: 360000.0
YMax: 5960000.0
Spatial Reference: 2152
(2956)
LatestVCSWkid(0)
Full Extent:
XMin: 310000.0
YMin: 5900000.0
XMax: 360000.0
YMax: 5960000.0
Spatial Reference: 2152
(2956)
LatestVCSWkid(0)
Pixel Size X: 1.0
Pixel Size Y: 1.0
Band Count: 1
Pixel Type: F32
RasterFunction Infos: {"rasterFunctionInfos": [{
"name": "None",
"description": "",
"help": ""
}]}
Mensuration Capabilities: Basic
Inspection Capabilities:
Has Histograms: false
Has Colormap: false
Has Multi Dimensions : false
Rendering Rule:
Min Scale: 0
Max Scale: 0
Resampling: false
Copyright Text: Government of Canada; Natural Resources Canada; Strategic Policy and Results; Canada Centre for Mapping and Earth Observation
Service Data Type: esriImageServiceDataTypeGeneric
Min Values: 596.22100830078
Max Values: 794.65301513672
Mean Values: 698.6030907283
Standard Deviation Values: 37.324015974115
Object ID Field:
Fields:
None
Default Mosaic Method: Center
Allowed Mosaic Methods:
SortField:
SortValue: null
Mosaic Operator: First
Default Compression Quality: 75
Default Resampling Method: Bilinear
Max Record Count: null
Max Image Height: 3840
Max Image Width: 2160
Max Download Image Count: null
Max Mosaic Image Count: null
Allow Raster Function: true
Allow Copy: true
Allow Analysis: true
Allow Compute TiePoints: false
Supports Statistics: false
Supports Advanced Queries: false
Use StandardizedQueries: true
Raster Type Infos:
Name: Raster Dataset
Description: Supports all ArcGIS Raster Datasets
Help:
Has Raster Attribute Table: false
Edit Fields Info: null
Ownership Based AccessControl For Rasters: null
Child Resources:
Info
Statistics
Key Properties
Legend
Raster Function Infos
Supported Operations:
Export Image
Identify
Measure
Compute Histograms
Compute Statistics Histograms
Get Samples
Compute Class Statistics
Query Boundary
Compute Pixel Location
Compute Angles
Validate
Project