{
 "currentVersion": 11.3,
 "serviceDescription": "1-meter Lidar Digital Terrain Model (Bare Earth), captured in 2018. License: https://open.canada.ca/en/open-government-licence-canada",
 "name": "Imagery_Public/2018_DTM_Lidar_1m",
 "description": "1-meter Lidar Digital Terrain Model (Bare Earth), captured in 2018. License: https://open.canada.ca/en/open-government-licence-canada",
 "extent": {
  "xmin": 310000,
  "ymin": 5900000,
  "xmax": 360000,
  "ymax": 5960000,
  "spatialReference": {
   "wkid": 2152,
   "latestWkid": 2956
  }
 },
 "initialExtent": {
  "xmin": 310000,
  "ymin": 5900000,
  "xmax": 360000,
  "ymax": 5960000,
  "spatialReference": {
   "wkid": 2152,
   "latestWkid": 2956
  }
 },
 "fullExtent": {
  "xmin": 310000,
  "ymin": 5900000,
  "xmax": 360000,
  "ymax": 5960000,
  "spatialReference": {
   "wkid": 2152,
   "latestWkid": 2956
  }
 },
 "sortableFields": "",
 "bandCount": 1,
 "pixelType": "F32",
 "minValues": [
  596.22100830078
 ],
 "maxValues": [
  794.65301513672
 ],
 "meanValues": [
  698.6030907283
 ],
 "stdvValues": [
  37.324015974115
 ],
 "hasMultidimensions": false,
 "pixelSizeX": 1,
 "pixelSizeY": 1,
 "meanPixelSize": 1,
 "datasetFormat": "MRF",
 "uncompressedSize": 12000000000,
 "blockWidth": 128,
 "blockHeight": 128,
 "compressionType": "LERC",
 "bandNames": [
  "Band_1"
 ],
 "allowCopy": true,
 "allowAnalysis": true,
 "itemAccess": false,
 "inspectionCapabilities": "",
 "noDataValue": 3.3999999521443642E38,
 "noDataValues": [
  3.3999999521443642E38
 ],
 "minPixelSize": 0,
 "maxPixelSize": 0,
 "copyrightText": "Government of Canada; Natural Resources Canada; Strategic Policy and Results; Canada Centre for Mapping and Earth Observation",
 "serviceDataType": "esriImageServiceDataTypeGeneric",
 "serviceSourceType": "esriImageServiceSourceTypeDataset",
 "objectIdField": "",
 "fields": [],
 "capabilities": "Mensuration,Image,Metadata",
 "defaultMosaicMethod": "Center",
 "allowedMosaicMethods": "",
 "sortField": "",
 "sortValue": null,
 "sortAscending": true,
 "mosaicOperator": "First",
 "defaultCompressionQuality": 75,
 "defaultResamplingMethod": "Bilinear",
 "maxImageHeight": 3840,
 "maxImageWidth": 2160,
 "allowRasterFunction": true,
 "rasterFunctionInfos": [
  {
   "name": "None",
   "description": "",
   "help": ""
  }
 ],
 "rasterTypeInfos": [
  {
   "name": "Raster Dataset",
   "description": "Supports all ArcGIS Raster Datasets",
   "help": ""
  }
 ],
 "mensurationCapabilities": "Basic",
 "hasHistograms": false,
 "hasColormap": false,
 "hasRasterAttributeTable": false,
 "minScale": 0,
 "maxScale": 0,
 "exportTilesAllowed": false,
 "supportsStatistics": false,
 "supportsAdvancedQueries": false,
 "editFieldsInfo": null,
 "ownershipBasedAccessControlForRasters": null,
 "allowComputeTiePoints": false,
 "useStandardizedQueries": true,
 "advancedQueryCapabilities": {
  "useStandardizedQueries": true,
  "supportsStatistics": false,
  "supportsOrderBy": false,
  "supportsDistinct": false,
  "supportsPagination": false
 },
 "spatialReference": {
  "wkid": 2152,
  "latestWkid": 2956
 },
 "resampling": false
}
