View In:
ArcGIS JavaScript
ArcGIS Online Map Viewer
ArcGIS Earth
Service Description: Imagery_Internal/Aerial_2016_P
Name: Imagery_Internal/Aerial_2016_P
Description:
Single Fused Map Cache: false
Extent:
XMin: 18933.0
YMin: 5918079.0
XMax: 48183.0
YMax: 5954079.0
Spatial Reference: 3780
(3780)
LatestVCSWkid(0)
Initial Extent:
XMin: 18933.0
YMin: 5918079.0
XMax: 48183.0
YMax: 5954079.0
Spatial Reference: 3780
(3780)
LatestVCSWkid(0)
Full Extent:
XMin: 18933.0
YMin: 5918079.0
XMax: 48183.0
YMax: 5954079.0
Spatial Reference: 3780
(3780)
LatestVCSWkid(0)
Pixel Size X: 0.075
Pixel Size Y: 0.075
Band Count: 4
Pixel Type: U8
RasterFunction Infos: {"rasterFunctionInfos": [{
"name": "None",
"description": "",
"help": ""
}]}
Mensuration Capabilities: Basic
Inspection Capabilities:
Has Histograms: true
Has Colormap: false
Has Multi Dimensions : false
Rendering Rule:
Min Scale: 0
Max Scale: 0
Resampling: false
Copyright Text:
Service Data Type: esriImageServiceDataTypeGeneric
Min Values: 0, 0, 0, 0
Max Values: 221, 197, 160, 255
Mean Values: 96.089689265537, 88.299081920904, 64.634533898305, 176.6613700565
Standard Deviation Values: 65.255493142066, 59.433417374841, 44.109114282392, 116.33600678135
Object ID Field:
Fields:
None
Default Mosaic Method: Center
Allowed Mosaic Methods:
SortField:
SortValue: null
Mosaic Operator: First
Default Compression Quality: 75
Default Resampling Method: Bilinear
Max Record Count: null
Max Image Height: 3840
Max Image Width: 2160
Max Download Image Count: null
Max Mosaic Image Count: null
Allow Raster Function: true
Allow Copy: true
Allow Analysis: true
Allow Compute TiePoints: false
Supports Statistics: false
Supports Advanced Queries: false
Use StandardizedQueries: true
Raster Type Infos:
Name: Raster Dataset
Description: Supports all ArcGIS Raster Datasets
Help:
Has Raster Attribute Table: false
Edit Fields Info: null
Ownership Based AccessControl For Rasters: null
Child Resources:
Info
Histograms
Statistics
Key Properties
Legend
Raster Function Infos
Supported Operations:
Export Image
Identify
Measure
Compute Histograms
Compute Statistics Histograms
Get Samples
Compute Class Statistics
Query Boundary
Compute Pixel Location
Compute Angles
Validate
Project