{
 "currentVersion": 11.3,
 "serviceDescription": "Imagery_Internal/Aerial_2016_P",
 "name": "Imagery_Internal/Aerial_2016_P",
 "description": "",
 "extent": {
  "xmin": 18933,
  "ymin": 5918079,
  "xmax": 48183,
  "ymax": 5954079,
  "spatialReference": {
   "wkid": 3780,
   "latestWkid": 3780
  }
 },
 "initialExtent": {
  "xmin": 18933,
  "ymin": 5918079,
  "xmax": 48183,
  "ymax": 5954079,
  "spatialReference": {
   "wkid": 3780,
   "latestWkid": 3780
  }
 },
 "fullExtent": {
  "xmin": 18933,
  "ymin": 5918079,
  "xmax": 48183,
  "ymax": 5954079,
  "spatialReference": {
   "wkid": 3780,
   "latestWkid": 3780
  }
 },
 "sortableFields": "",
 "bandCount": 4,
 "pixelType": "U8",
 "minValues": [
  0,
  0,
  0,
  0
 ],
 "maxValues": [
  221,
  197,
  160,
  255
 ],
 "meanValues": [
  96.089689265537,
  88.299081920904,
  64.634533898305,
  176.6613700565
 ],
 "stdvValues": [
  65.255493142066,
  59.433417374841,
  44.109114282392,
  116.33600678135
 ],
 "hasMultidimensions": false,
 "pixelSizeX": 0.075,
 "pixelSizeY": 0.075,
 "meanPixelSize": 0.075,
 "datasetFormat": "MrSID",
 "uncompressedSize": 748800000000,
 "blockWidth": 1024,
 "blockHeight": 128,
 "compressionType": "Wavelet (MG4)",
 "bandNames": [
  "Band_1",
  "Band_2",
  "Band_3",
  "Band_4"
 ],
 "allowCopy": true,
 "allowAnalysis": true,
 "itemAccess": false,
 "inspectionCapabilities": "",
 "minPixelSize": 0,
 "maxPixelSize": 0,
 "copyrightText": "",
 "serviceDataType": "esriImageServiceDataTypeGeneric",
 "serviceSourceType": "esriImageServiceSourceTypeDataset",
 "objectIdField": "",
 "fields": [],
 "capabilities": "Mensuration,Image,Metadata",
 "defaultMosaicMethod": "Center",
 "allowedMosaicMethods": "",
 "sortField": "",
 "sortValue": null,
 "sortAscending": true,
 "mosaicOperator": "First",
 "defaultCompressionQuality": 75,
 "defaultResamplingMethod": "Bilinear",
 "maxImageHeight": 3840,
 "maxImageWidth": 2160,
 "allowRasterFunction": true,
 "rasterFunctionInfos": [
  {
   "name": "None",
   "description": "",
   "help": ""
  }
 ],
 "rasterTypeInfos": [
  {
   "name": "Raster Dataset",
   "description": "Supports all ArcGIS Raster Datasets",
   "help": ""
  }
 ],
 "mensurationCapabilities": "Basic",
 "hasHistograms": true,
 "hasColormap": false,
 "hasRasterAttributeTable": false,
 "minScale": 0,
 "maxScale": 0,
 "exportTilesAllowed": false,
 "supportsStatistics": false,
 "supportsAdvancedQueries": false,
 "editFieldsInfo": null,
 "ownershipBasedAccessControlForRasters": null,
 "allowComputeTiePoints": false,
 "useStandardizedQueries": true,
 "advancedQueryCapabilities": {
  "useStandardizedQueries": true,
  "supportsStatistics": false,
  "supportsOrderBy": false,
  "supportsDistinct": false,
  "supportsPagination": false
 },
 "spatialReference": {
  "wkid": 3780,
  "latestWkid": 3780
 },
 "resampling": false
}
