View In:
ArcGIS JavaScript
ArcGIS Online Map Viewer
ArcGIS Earth
Service Description: Imagery_Public/Wildfire_Data_2080
Name: Imagery_Public/Wildfire_Data_2080
Description:
Single Fused Map Cache: false
Extent:
XMin: -1.265909105445029E7
YMin: 7044984.34950646
XMax: -1.260890033544602E7
YMax: 7117152.04955445
Spatial Reference: 102100
(3857)
LatestVCSWkid(0)
Initial Extent:
XMin: -1.265909105445029E7
YMin: 7044984.34950646
XMax: -1.260890033544602E7
YMax: 7117152.04955445
Spatial Reference: 102100
(3857)
LatestVCSWkid(0)
Full Extent:
XMin: -1.265909105445029E7
YMin: 7044984.34950646
XMax: -1.260890033544602E7
YMax: 7117152.04955445
Spatial Reference: 102100
(3857)
LatestVCSWkid(0)
Pixel Size X: 1.7049636185973807
Pixel Size Y: 1.7049636185973895
Band Count: 1
Pixel Type: F32
RasterFunction Infos: {"rasterFunctionInfos": [{
"name": "None",
"description": "",
"help": ""
}]}
Mensuration Capabilities: Basic
Inspection Capabilities:
Has Histograms: false
Has Colormap: false
Has Multi Dimensions : false
Rendering Rule:
Min Scale: 0
Max Scale: 0
Resampling: false
Copyright Text:
Service Data Type: esriImageServiceDataTypeGeneric
Min Values: 0.35913896560669
Max Values: 0.72271621227264
Mean Values: 0.43037512395154
Standard Deviation Values: 0.048188781764697
Object ID Field:
Fields:
None
Default Mosaic Method: Center
Allowed Mosaic Methods:
SortField:
SortValue: null
Mosaic Operator: First
Default Compression Quality: 75
Default Resampling Method: Bilinear
Max Record Count: null
Max Image Height: 3840
Max Image Width: 2160
Max Download Image Count: null
Max Mosaic Image Count: null
Allow Raster Function: true
Allow Copy: true
Allow Analysis: true
Allow Compute TiePoints: false
Supports Statistics: false
Supports Advanced Queries: false
Use StandardizedQueries: true
Raster Type Infos:
Name: Raster Dataset
Description: Supports all ArcGIS Raster Datasets
Help:
Has Raster Attribute Table: false
Edit Fields Info: null
Ownership Based AccessControl For Rasters: null
Child Resources:
Info
Statistics
Key Properties
Legend
Raster Function Infos
Supported Operations:
Export Image
Identify
Measure
Compute Histograms
Compute Statistics Histograms
Get Samples
Compute Class Statistics
Query Boundary
Compute Pixel Location
Compute Angles
Validate
Project