View In:
ArcGIS JavaScript
ArcGIS Online Map Viewer
ArcGIS Earth
Service Description: UoA_Wildfire_Data
Name: Imagery_Public/UoA_Wildfire_Data
Description: UoA_Wildfire_Data
Single Fused Map Cache: false
Extent:
XMin: -1.2659090135805E7
YMin: 7044984.21991966
XMax: -1.260889943697501E7
YMax: 7117151.89095968
Spatial Reference: 102100
(3857)
LatestVCSWkid(0)
Initial Extent:
XMin: -1.2659090135805E7
YMin: 7044984.21991966
XMax: -1.260889943697501E7
YMax: 7117151.89095968
Spatial Reference: 102100
(3857)
LatestVCSWkid(0)
Full Extent:
XMin: -1.2659090135805E7
YMin: 7044984.21991966
XMax: -1.260889943697501E7
YMax: 7117151.89095968
Spatial Reference: 102100
(3857)
LatestVCSWkid(0)
Pixel Size X: 1.7049629332831673
Pixel Size Y: 1.7049629332834046
Band Count: 1
Pixel Type: F32
RasterFunction Infos: {"rasterFunctionInfos": [{
"name": "None",
"description": "",
"help": ""
}]}
Mensuration Capabilities: Basic
Inspection Capabilities:
Has Histograms: true
Has Colormap: false
Has Multi Dimensions : false
Rendering Rule:
Min Scale: 0
Max Scale: 0
Resampling: false
Copyright Text:
Service Data Type: esriImageServiceDataTypeGeneric
Min Values: 0.30011680722237
Max Values: 0.67739248275757
Mean Values: 0.37972952314205
Standard Deviation Values: 0.050715843196631
Object ID Field:
Fields:
None
Default Mosaic Method: Center
Allowed Mosaic Methods:
SortField:
SortValue: null
Mosaic Operator: First
Default Compression Quality: 75
Default Resampling Method: Bilinear
Max Record Count: null
Max Image Height: 3840
Max Image Width: 2160
Max Download Image Count: null
Max Mosaic Image Count: null
Allow Raster Function: true
Allow Copy: true
Allow Analysis: true
Allow Compute TiePoints: false
Supports Statistics: false
Supports Advanced Queries: false
Use StandardizedQueries: true
Raster Type Infos:
Name: Raster Dataset
Description: Supports all ArcGIS Raster Datasets
Help:
Has Raster Attribute Table: false
Edit Fields Info: null
Ownership Based AccessControl For Rasters: null
Child Resources:
Info
Histograms
Statistics
Key Properties
Legend
Raster Function Infos
Supported Operations:
Export Image
Identify
Measure
Compute Histograms
Compute Statistics Histograms
Get Samples
Compute Class Statistics
Query Boundary
Compute Pixel Location
Compute Angles
Validate
Project