View In:
ArcGIS JavaScript
ArcGIS Online Map Viewer
ArcGIS Earth
Service Description: Imagery_Internal/Aerial_2021_P
Name: Imagery_Internal/Aerial_2021_P
Description:
Single Fused Map Cache: false
Extent:
XMin: 18933.0
YMin: 5911329.0
XMax: 48183.0
YMax: 5954079.0
Spatial Reference: 0
(0)
LatestVCSWkid(0)
Initial Extent:
XMin: 18933.0
YMin: 5911329.0
XMax: 48183.0
YMax: 5954079.0
Spatial Reference: 0
(0)
LatestVCSWkid(0)
Full Extent:
XMin: 18933.0
YMin: 5911329.0
XMax: 48183.0
YMax: 5954079.0
Spatial Reference: 0
(0)
LatestVCSWkid(0)
Pixel Size X: 0.075
Pixel Size Y: 0.075
Band Count: 4
Pixel Type: U8
RasterFunction Infos: {"rasterFunctionInfos": [{
"name": "None",
"description": "",
"help": ""
}]}
Mensuration Capabilities:
Inspection Capabilities:
Has Histograms: true
Has Colormap: false
Has Multi Dimensions : false
Rendering Rule:
Min Scale: 0
Max Scale: 0
Resampling: false
Copyright Text:
Service Data Type: esriImageServiceDataTypeProcessed
Min Values: 0, 0, 0, 0
Max Values: 232, 203, 170, 255
Mean Values: 98.014880952381, 85.873214285714, 66.460119047619, 168.60357142857
Standard Deviation Values: 71.444823981835, 62.33210303078, 48.279551325342, 119.16471688025
Object ID Field:
Fields:
None
Default Mosaic Method: Center
Allowed Mosaic Methods:
SortField:
SortValue: null
Mosaic Operator: First
Default Compression Quality: 75
Default Resampling Method: Bilinear
Max Record Count: null
Max Image Height: 3840
Max Image Width: 2160
Max Download Image Count: null
Max Mosaic Image Count: null
Allow Raster Function: false
Allow Copy: true
Allow Analysis: true
Allow Compute TiePoints: false
Supports Statistics: false
Supports Advanced Queries: false
Use StandardizedQueries: true
Raster Type Infos:
Name: Raster Dataset
Description: Supports all ArcGIS Raster Datasets
Help:
Has Raster Attribute Table: false
Edit Fields Info: null
Ownership Based AccessControl For Rasters: null
Child Resources:
Info
Histograms
Statistics
Key Properties
Legend
Raster Function Infos
Supported Operations:
Export Image
Identify
Compute Histograms
Compute Statistics Histograms
Get Samples
Compute Class Statistics
Query Boundary
Compute Pixel Location
Compute Angles
Validate
Project