<?xml version="1.0" encoding="UTF-8" standalone="no"?>
<metadata xml:lang="en">
  <Esri>
    <CreaDate>20210505</CreaDate>
    <CreaTime>20064200</CreaTime>
    <ArcGISFormat>1.0</ArcGISFormat>
    <SyncOnce>FALSE</SyncOnce>
    <DataProperties>
      <itemProps>
        <itemName Sync="TRUE">Lidar_DSM_1m.mrf</itemName>
        <imsContentType Sync="TRUE">002</imsContentType>
        <nativeExtBox>
          <westBL Sync="TRUE">310000.000000</westBL>
          <eastBL Sync="TRUE">360000.000000</eastBL>
          <southBL Sync="TRUE">5900000.000000</southBL>
          <northBL Sync="TRUE">5960000.000000</northBL>
          <exTypeCode Sync="TRUE">1</exTypeCode>
        </nativeExtBox>
      </itemProps>
      <coordRef>
        <type Sync="TRUE">Projected</type>
        <geogcsn Sync="TRUE">GCS_North_American_1983_CSRS</geogcsn>
        <csUnits Sync="TRUE">Linear Unit: Meter (1.000000)</csUnits>
        <projcsn Sync="TRUE">NAD_1983_CSRS_UTM_Zone_12N</projcsn>
        <peXml Sync="TRUE">&lt;ProjectedCoordinateSystem xsi:type='typens:ProjectedCoordinateSystem' xmlns:xsi='http://www.w3.org/2001/XMLSchema-instance' xmlns:xs='http://www.w3.org/2001/XMLSchema' xmlns:typens='http://www.esri.com/schemas/ArcGIS/2.7.0'&gt;&lt;WKT&gt;PROJCS[&amp;quot;NAD_1983_CSRS_UTM_Zone_12N&amp;quot;,GEOGCS[&amp;quot;GCS_North_American_1983_CSRS&amp;quot;,DATUM[&amp;quot;D_North_American_1983_CSRS&amp;quot;,SPHEROID[&amp;quot;GRS_1980&amp;quot;,6378137.0,298.257222101]],PRIMEM[&amp;quot;Greenwich&amp;quot;,0.0],UNIT[&amp;quot;Degree&amp;quot;,0.0174532925199433]],PROJECTION[&amp;quot;Transverse_Mercator&amp;quot;],PARAMETER[&amp;quot;False_Easting&amp;quot;,500000.0],PARAMETER[&amp;quot;False_Northing&amp;quot;,0.0],PARAMETER[&amp;quot;Central_Meridian&amp;quot;,-111.0],PARAMETER[&amp;quot;Scale_Factor&amp;quot;,0.9996],PARAMETER[&amp;quot;Latitude_Of_Origin&amp;quot;,0.0],UNIT[&amp;quot;Meter&amp;quot;,1.0],AUTHORITY[&amp;quot;EPSG&amp;quot;,2956]]&lt;/WKT&gt;&lt;XOrigin&gt;-5120900&lt;/XOrigin&gt;&lt;YOrigin&gt;-9998100&lt;/YOrigin&gt;&lt;XYScale&gt;450445547.3910538&lt;/XYScale&gt;&lt;ZOrigin&gt;-100000&lt;/ZOrigin&gt;&lt;ZScale&gt;10000&lt;/ZScale&gt;&lt;MOrigin&gt;-100000&lt;/MOrigin&gt;&lt;MScale&gt;10000&lt;/MScale&gt;&lt;XYTolerance&gt;0.001&lt;/XYTolerance&gt;&lt;ZTolerance&gt;0.001&lt;/ZTolerance&gt;&lt;MTolerance&gt;0.001&lt;/MTolerance&gt;&lt;HighPrecision&gt;true&lt;/HighPrecision&gt;&lt;WKID&gt;2152&lt;/WKID&gt;&lt;LatestWKID&gt;2956&lt;/LatestWKID&gt;&lt;/ProjectedCoordinateSystem&gt;</peXml>
      </coordRef>
      <RasterProperties>
        <General>
          <PixelDepth Sync="TRUE">32</PixelDepth>
          <HasColormap Sync="TRUE">FALSE</HasColormap>
          <CompressionType Sync="TRUE">LERC</CompressionType>
          <NumBands Sync="TRUE">1</NumBands>
          <Format Sync="TRUE">MRF</Format>
          <HasPyramids Sync="TRUE">TRUE</HasPyramids>
          <SourceType Sync="TRUE">continuous</SourceType>
          <PixelType Sync="TRUE">floating point</PixelType>
          <NoDataValue Sync="TRUE">3.4e+38</NoDataValue>
        </General>
      </RasterProperties>
    </DataProperties>
    <SyncDate>20210505</SyncDate>
    <SyncTime>20144000</SyncTime>
    <ModDate>20210505</ModDate>
    <ModTime>20144000</ModTime>
  </Esri>
  <dataIdInfo>
    <envirDesc Sync="FALSE">Esri ArcGIS 12.7.0.26828</envirDesc>
    <dataLang>
      <languageCode Sync="TRUE" value="eng">
</languageCode>
      <countryCode Sync="TRUE" value="USA">
</countryCode>
    </dataLang>
    <idCitation>
      <resTitle Sync="TRUE">Lidar_DSM_1m.mrf</resTitle>
      <presForm>
        <PresFormCd Sync="TRUE" value="005">
</PresFormCd>
      </presForm>
    </idCitation>
    <spatRpType>
      <SpatRepTypCd Sync="TRUE" value="002">
</SpatRepTypCd>
    </spatRpType>
    <dataExt>
      <geoEle>
        <GeoBndBox esriExtentType="search">
          <exTypeCode Sync="TRUE">1</exTypeCode>
          <westBL Sync="TRUE">-113.881969</westBL>
          <eastBL Sync="TRUE">-113.097450</eastBL>
          <northBL Sync="TRUE">53.769765</northBL>
          <southBL Sync="TRUE">53.215287</southBL>
        </GeoBndBox>
      </geoEle>
    </dataExt>
    <idAbs>1-meter Lidar Digital Terrain Model (Bare Earth), captured in 2018. License: https://open.canada.ca/en/open-government-licence-canada</idAbs>
    <idPurp>1-meter Lidar Digital Terrain Model (Bare Earth), captured in 2018.</idPurp>
    <idCredit>Government of Canada; Natural Resources Canada; Strategic Policy and Results; Canada Centre for Mapping and Earth Observation</idCredit>
    <resConst>
      <Consts>
        <useLimit>https://open.canada.ca/en/open-government-licence-canada</useLimit>
      </Consts>
    </resConst>
    <searchKeys>
      <keyword>Lidar</keyword>
    </searchKeys>
  </dataIdInfo>
  <mdLang>
    <languageCode Sync="TRUE" value="eng">
</languageCode>
    <countryCode Sync="TRUE" value="USA">
</countryCode>
  </mdLang>
  <distInfo>
    <distFormat>
      <formatName Sync="TRUE">Raster Dataset</formatName>
    </distFormat>
  </distInfo>
  <mdHrLv>
    <ScopeCd Sync="TRUE" value="005">
</ScopeCd>
  </mdHrLv>
  <mdHrLvName Sync="TRUE">dataset</mdHrLvName>
  <refSysInfo>
    <RefSystem>
      <refSysID>
        <identCode Sync="TRUE" code="2956">
</identCode>
        <idCodeSpace Sync="TRUE">EPSG</idCodeSpace>
        <idVersion Sync="TRUE">6.11(9.3.0.0)</idVersion>
      </refSysID>
    </RefSystem>
  </refSysInfo>
  <spatRepInfo>
    <Georect>
      <cellGeo>
        <CellGeoCd Sync="TRUE" value="002">
</CellGeoCd>
      </cellGeo>
      <numDims Sync="TRUE">2</numDims>
      <tranParaAv Sync="TRUE">1</tranParaAv>
      <chkPtAv Sync="TRUE">0</chkPtAv>
      <cornerPts>
        <pos Sync="TRUE">310000.000000 5900000.000000</pos>
      </cornerPts>
      <cornerPts>
        <pos Sync="TRUE">310000.000000 5960000.000000</pos>
      </cornerPts>
      <cornerPts>
        <pos Sync="TRUE">360000.000000 5960000.000000</pos>
      </cornerPts>
      <cornerPts>
        <pos Sync="TRUE">360000.000000 5900000.000000</pos>
      </cornerPts>
      <centerPt>
        <pos Sync="TRUE">335000.000000 5930000.000000</pos>
      </centerPt>
      <axisDimension type="002">
        <dimSize Sync="TRUE">50000</dimSize>
        <dimResol>
          <value Sync="TRUE" uom="m">1.000000</value>
        </dimResol>
      </axisDimension>
      <axisDimension type="001">
        <dimSize Sync="TRUE">60000</dimSize>
        <dimResol>
          <value Sync="TRUE" uom="m">1.000000</value>
        </dimResol>
      </axisDimension>
      <ptInPixel>
        <PixOrientCd Sync="TRUE" value="001">
</PixOrientCd>
      </ptInPixel>
    </Georect>
  </spatRepInfo>
  <contInfo>
    <ImgDesc>
      <contentTyp>
        <ContentTypCd Sync="TRUE" value="001">
</ContentTypCd>
      </contentTyp>
      <covDim>
        <Band>
          <dimDescrp Sync="TRUE">Band_1</dimDescrp>
          <bitsPerVal Sync="TRUE">32</bitsPerVal>
          <valUnit>
            <UOM type="length">
</UOM>
          </valUnit>
        </Band>
      </covDim>
    </ImgDesc>
  </contInfo>
  <mdDateSt Sync="TRUE">20210505</mdDateSt>
  </metadata>
