{
 "currentVersion": 11.3,
 "serviceDescription": "Imagery_Internal/Aerial_2015_P",
 "name": "Imagery_Internal/Aerial_2015_P",
 "description": "",
 "extent": {
  "xmin": 18933,
  "ymin": 5918079,
  "xmax": 48183,
  "ymax": 5954079,
  "spatialReference": {
   "wkid": 102187,
   "latestWkid": 3776
  }
 },
 "initialExtent": {
  "xmin": 18933,
  "ymin": 5918079,
  "xmax": 48183,
  "ymax": 5954079,
  "spatialReference": {
   "wkid": 102187,
   "latestWkid": 3776
  }
 },
 "fullExtent": {
  "xmin": 18933,
  "ymin": 5918079,
  "xmax": 48183,
  "ymax": 5954079,
  "spatialReference": {
   "wkid": 102187,
   "latestWkid": 3776
  }
 },
 "sortableFields": "",
 "bandCount": 4,
 "pixelType": "U8",
 "minValues": [
  0,
  0,
  0,
  0
 ],
 "maxValues": [
  216,
  181,
  149,
  255
 ],
 "meanValues": [
  96.837570621469,
  88.312853107345,
  65.520833333333,
  176.64442090395
 ],
 "stdvValues": [
  65.88078087738,
  59.485965479556,
  44.489091100956,
  116.32468582564
 ],
 "hasMultidimensions": false,
 "pixelSizeX": 0.075,
 "pixelSizeY": 0.075,
 "meanPixelSize": 0.075,
 "datasetFormat": "MrSID",
 "uncompressedSize": 748800000000,
 "blockWidth": 1024,
 "blockHeight": 128,
 "compressionType": "Wavelet (MG4)",
 "bandNames": [
  "Band_1",
  "Band_2",
  "Band_3",
  "Band_4"
 ],
 "allowCopy": true,
 "allowAnalysis": true,
 "itemAccess": false,
 "inspectionCapabilities": "",
 "minPixelSize": 0,
 "maxPixelSize": 0,
 "copyrightText": "",
 "serviceDataType": "esriImageServiceDataTypeGeneric",
 "serviceSourceType": "esriImageServiceSourceTypeDataset",
 "objectIdField": "",
 "fields": [],
 "capabilities": "Mensuration,Image,Metadata",
 "defaultMosaicMethod": "Center",
 "allowedMosaicMethods": "",
 "sortField": "",
 "sortValue": null,
 "sortAscending": true,
 "mosaicOperator": "First",
 "defaultCompressionQuality": 75,
 "defaultResamplingMethod": "Bilinear",
 "maxImageHeight": 3840,
 "maxImageWidth": 2160,
 "allowRasterFunction": true,
 "rasterFunctionInfos": [
  {
   "name": "None",
   "description": "",
   "help": ""
  }
 ],
 "rasterTypeInfos": [
  {
   "name": "Raster Dataset",
   "description": "Supports all ArcGIS Raster Datasets",
   "help": ""
  }
 ],
 "mensurationCapabilities": "Basic",
 "hasHistograms": true,
 "hasColormap": false,
 "hasRasterAttributeTable": false,
 "minScale": 0,
 "maxScale": 0,
 "exportTilesAllowed": false,
 "supportsStatistics": false,
 "supportsAdvancedQueries": false,
 "editFieldsInfo": null,
 "ownershipBasedAccessControlForRasters": null,
 "allowComputeTiePoints": false,
 "useStandardizedQueries": true,
 "advancedQueryCapabilities": {
  "useStandardizedQueries": true,
  "supportsStatistics": false,
  "supportsOrderBy": false,
  "supportsDistinct": false,
  "supportsPagination": false
 },
 "spatialReference": {
  "wkid": 102187,
  "latestWkid": 3776
 },
 "resampling": false
}
