{
 "currentVersion": 11.3,
 "serviceDescription": "Imagery_Internal/ABCEDM24_Property_sid",
 "name": "Imagery_Internal/ABCEDM24_Property_sid",
 "description": "",
 "extent": {
  "xmin": 18933,
  "ymin": 5911329,
  "xmax": 48183,
  "ymax": 5954079,
  "spatialReference": {
   "wkid": 102187,
   "latestWkid": 3776
  }
 },
 "initialExtent": {
  "xmin": 18933,
  "ymin": 5911329,
  "xmax": 48183,
  "ymax": 5954079,
  "spatialReference": {
   "wkid": 102187,
   "latestWkid": 3776
  }
 },
 "fullExtent": {
  "xmin": 18933,
  "ymin": 5911329,
  "xmax": 48183,
  "ymax": 5954079,
  "spatialReference": {
   "wkid": 102187,
   "latestWkid": 3776
  }
 },
 "sortableFields": "",
 "bandCount": 4,
 "pixelType": "U8",
 "minValues": [
  0,
  0,
  0,
  0
 ],
 "maxValues": [
  240,
  220,
  191,
  255
 ],
 "meanValues": [
  126.81481481481,
  118.01262626263,
  86.207912457912,
  168.60357142857
 ],
 "stdvValues": [
  38.596464694562,
  33.375148149157,
  25.438174301702,
  119.16471688025
 ],
 "hasMultidimensions": false,
 "pixelSizeX": 0.075,
 "pixelSizeY": 0.075,
 "meanPixelSize": 0.075,
 "datasetFormat": "MrSID",
 "uncompressedSize": 889200000000,
 "blockWidth": 1024,
 "blockHeight": 128,
 "compressionType": "Wavelet (MG4)",
 "bandNames": [
  "Band_1",
  "Band_2",
  "Band_3",
  "Band_4"
 ],
 "allowCopy": true,
 "allowAnalysis": true,
 "itemAccess": false,
 "inspectionCapabilities": "",
 "minPixelSize": 0,
 "maxPixelSize": 0,
 "copyrightText": "",
 "serviceDataType": "esriImageServiceDataTypeGeneric",
 "serviceSourceType": "esriImageServiceSourceTypeDataset",
 "objectIdField": "",
 "fields": [],
 "capabilities": "Image,Metadata,Mensuration",
 "defaultMosaicMethod": "Center",
 "allowedMosaicMethods": "",
 "sortField": "",
 "sortValue": null,
 "sortAscending": true,
 "mosaicOperator": "First",
 "defaultCompressionQuality": 75,
 "defaultResamplingMethod": "Bilinear",
 "maxImageHeight": 4100,
 "maxImageWidth": 15000,
 "allowRasterFunction": true,
 "rasterFunctionInfos": [
  {
   "name": "None",
   "description": "",
   "help": ""
  }
 ],
 "rasterTypeInfos": [
  {
   "name": "Raster Dataset",
   "description": "Supports all ArcGIS Raster Datasets",
   "help": ""
  }
 ],
 "mensurationCapabilities": "Basic",
 "hasHistograms": true,
 "hasColormap": false,
 "hasRasterAttributeTable": false,
 "minScale": 0,
 "maxScale": 0,
 "exportTilesAllowed": false,
 "supportsStatistics": false,
 "supportsAdvancedQueries": false,
 "editFieldsInfo": null,
 "ownershipBasedAccessControlForRasters": null,
 "allowComputeTiePoints": false,
 "useStandardizedQueries": true,
 "advancedQueryCapabilities": {
  "useStandardizedQueries": true,
  "supportsStatistics": false,
  "supportsOrderBy": false,
  "supportsDistinct": false,
  "supportsPagination": false
 },
 "spatialReference": {
  "wkid": 102187,
  "latestWkid": 3776
 }
}
